BEGIN:VCALENDAR
VERSION:2.0
PRODID:-//wp-events-plugin.com//7.2.3.1//EN
TZID:Europe/Zurich
X-WR-TIMEZONE:Europe/Zurich
BEGIN:VEVENT
UID:1@intranet-loesung.ch
DTSTART;TZID=Europe/Zurich:20190613T163000
DTEND;TZID=Europe/Zurich:20190613T180000
DTSTAMP:20190524T112417Z
URL:https://www.intranet-loesung.ch/veranstaltung/valo-roadshow-zuerich/
SUMMARY:Valo Intranet Roadshow in Zürich
DESCRIPTION:Es wird Zeit\, Ihr Unternehmen auf die digitale Zukunft vorzube
 reiten  – gemeinsam mit Valo Intranet. In diesem Webinar stellen wir I
 hnen die prämierte Intranet Lösung von Valo vor. 
ATTACH;FMTTYPE=image/jpeg:https://www.intranet-loesung.ch/wp-content/uploa
 ds/2019/05/Valo-Roadshow-Zürich-Beetroot.jpg
END:VEVENT
BEGIN:VTIMEZONE
TZID:Europe/Zurich
X-LIC-LOCATION:Europe/Zurich
BEGIN:DAYLIGHT
DTSTART:20190331T030000
TZOFFSETFROM:+0100
TZOFFSETTO:+0200
TZNAME:CEST
END:DAYLIGHT
END:VTIMEZONE
END:VCALENDAR