BEGIN:VCALENDAR
VERSION:2.0
PRODID:-//wp-events-plugin.com//7.2.3.1//EN
TZID:Europe/Zurich
X-WR-TIMEZONE:Europe/Zurich
BEGIN:VEVENT
UID:5@intranet-loesung.ch
DTSTART;TZID=Europe/Zurich:20190827T163000
DTEND;TZID=Europe/Zurich:20190827T180000
DTSTAMP:20190715T131649Z
URL:https://www.intranet-loesung.ch/veranstaltung/valo-roadshow-basel/
SUMMARY:Valo Intranet Roadshow in Basel
DESCRIPTION:Valo Intranet bietet mit ihrer Ready-to-go-Lösung die wichtigs
 ten Standardfunktionen an und kann zugleich mit vielen Erweiterungen auf I
 hre individuellen Bedürfnisse angepasst werden. Erfahren Sie an unserer R
 oadshow in Basel mehr dazu.
ATTACH;FMTTYPE=image/jpeg:https://www.intranet-loesung.ch/wp-content/uploa
 ds/2019/05/valo-lux-desktop2.jpg
END:VEVENT
BEGIN:VTIMEZONE
TZID:Europe/Zurich
X-LIC-LOCATION:Europe/Zurich
BEGIN:DAYLIGHT
DTSTART:20190331T030000
TZOFFSETFROM:+0100
TZOFFSETTO:+0200
TZNAME:CEST
END:DAYLIGHT
END:VTIMEZONE
END:VCALENDAR