BEGIN:VCALENDAR
VERSION:2.0
PRODID:-//wp-events-plugin.com//7.2.3.1//EN
TZID:Europe/Zurich
X-WR-TIMEZONE:Europe/Zurich
BEGIN:VEVENT
UID:2@intranet-loesung.ch
DTSTART;TZID=Europe/Zurich:20190612T160000
DTEND;TZID=Europe/Zurich:20190612T183000
DTSTAMP:20190524T111518Z
URL:https://www.intranet-loesung.ch/veranstaltung/tech-tonic/
SUMMARY:Tech & Tonic - Community Event
DESCRIPTION:An einem Sommertag den Arbeitsalltag mit einem erfrischenden To
 nic in der Hand ausklingen lassen und gleichzeitig spannende Inputs zum Th
 ema digital Workplace erhalten? Na\, wenn sich das nicht gut anhört! 
ATTACH;FMTTYPE=image/jpeg:https://www.intranet-loesung.ch/wp-content/uploa
 ds/2019/05/Tonic-Header.jpeg
END:VEVENT
BEGIN:VTIMEZONE
TZID:Europe/Zurich
X-LIC-LOCATION:Europe/Zurich
BEGIN:DAYLIGHT
DTSTART:20190331T030000
TZOFFSETFROM:+0100
TZOFFSETTO:+0200
TZNAME:CEST
END:DAYLIGHT
END:VTIMEZONE
END:VCALENDAR