BEGIN:VCALENDAR
VERSION:2.0
PRODID:-//wp-events-plugin.com//7.2.3.1//EN
TZID:Europe/Zurich
X-WR-TIMEZONE:Europe/Zurich
BEGIN:VEVENT
UID:12@intranet-loesung.ch
DTSTART;TZID=Europe/Zurich:20191120T160000
DTEND;TZID=Europe/Zurich:20191120T183000
DTSTAMP:20190927T062741Z
URL:https://www.intranet-loesung.ch/veranstaltung/tech-tonic-2/
SUMMARY:Unser Tech & Tonic geht in die 2. Runde 
DESCRIPTION:Damit ein Unternehmen umgehend auf Veränderungen reagieren kan
 n\, benötigt es intelligente Apps. Die Power Plattform von Microsoft biet
 et jetzt die Möglichkeit Anwendungen zu entwickeln\, ohne auch nur eine e
 inzige Codezeile schreiben zu müssen. Was bringt das für Vorteile mit si
 ch? Komm auch du nach Sursee\, schnapp dir ein Tonic und diskutiere mit!
ATTACH;FMTTYPE=image/jpeg:https://www.intranet-loesung.ch/wp-content/uploa
 ds/2019/07/tonic-2-e1563452596185.jpg
END:VEVENT
BEGIN:VTIMEZONE
TZID:Europe/Zurich
X-LIC-LOCATION:Europe/Zurich
BEGIN:STANDARD
DTSTART:20191027T020000
TZOFFSETFROM:+0200
TZOFFSETTO:+0100
TZNAME:CET
END:STANDARD
END:VTIMEZONE
END:VCALENDAR